BEGIN:VCALENDAR
VERSION:2.0
METHOD:PUBLISH
CALSCALE:GREGORIAN
PRODID:-//WordPress - MECv7.32.0//EN
X-ORIGINAL-URL:https://icpcnj.org/
X-WR-CALNAME:Islamic Center of Passaic County
X-WR-CALDESC:
X-WR-TIMEZONE:America/New_York
BEGIN:VTIMEZONE
TZID:America/New_York
X-LIC-LOCATION:America/New_York
BEGIN:DAYLIGHT
TZOFFSETFROM:-0500
TZOFFSETTO:-0400
TZNAME:EDT
DTSTART:20260308T030000
RRULE:FREQ=YEARLY;BYMONTH=03;BYDAY=2SU
END:DAYLIGHT
BEGIN:STANDARD
TZOFFSETFROM:-0400
TZOFFSETTO:-0500
TZNAME:EST
DTSTART:20261101T010000
RRULE:FREQ=YEARLY;BYMONTH=11;BYDAY=1SU
END:STANDARD
END:VTIMEZONE
REFRESH-INTERVAL;VALUE=DURATION:PT1H
X-PUBLISHED-TTL:PT1H
X-MS-OLK-FORCEINSPECTOROPEN:TRUE
BEGIN:VEVENT
CLASS:PUBLIC
UID:MEC-a2a6e2d65ff67c5ed23a2d6cd3beb666@icpcnj.org
DTSTART;TZID=America/New_York:20260422T063000
DTEND;TZID=America/New_York:20260422T064000
DTSTAMP:20241231T230740Z
RRULE:FREQ=DAILY
CREATED:20241231
LAST-MODIFIED:20250312
PRIORITY:5
SEQUENCE:3
TRANSP:OPAQUE
SUMMARY:خاطرة الفجر مع الدكتور قطناني
DESCRIPTION:خاطرة مدتها ١٠ دقائق مباشرة بعد صلاة الفجر\n
URL:https://icpcnj.org/events/%d8%ad%d9%84%d9%82%d8%a9-%d9%82%d8%b1%d8%a2%d9%86%d9%8a%d8%a9-%d9%8a%d9%88%d9%85%d9%8a%d8%a9-2/
LOCATION:152 Derrom Ave Paterson, NJ 07504
ATTACH;FMTTYPE=image/jpeg:https://icpcnj.org/wp-content/uploads/2024/01/fajrkhatira_post.jpg
END:VEVENT
BEGIN:VEVENT
CLASS:PUBLIC
UID:MEC-785137e3cba5d6c35d9d97b30a9cd152@icpcnj.org
DTSTART;TZID=America/New_York:20260422T060000
DTEND;TZID=America/New_York:20260422T190000
DTSTAMP:20241231T230525Z
RRULE:FREQ=DAILY
CREATED:20241231
LAST-MODIFIED:20250312
PRIORITY:5
SEQUENCE:2
TRANSP:OPAQUE
SUMMARY:حلقة قرآنية يومية
DESCRIPTION:
URL:https://icpcnj.org/events/%d8%ad%d9%84%d9%82%d8%a9-%d9%82%d8%b1%d8%a2%d9%86%d9%8a%d8%a9-%d9%8a%d9%88%d9%85%d9%8a%d8%a9/
LOCATION:152 Derrom Ave Paterson, NJ 07504
ATTACH;FMTTYPE=image/jpeg:https://icpcnj.org/wp-content/uploads/2024/12/quranhalaqa_post.jpg
END:VEVENT
BEGIN:VEVENT
CLASS:PUBLIC
UID:MEC-cfadcecb7be631af4dcf20949e175006@icpcnj.org
DTSTART;TZID=America/New_York:20260427T193000
DTEND;TZID=America/New_York:20260427T210000
DTSTAMP:20260406T191755Z
RRULE:FREQ=WEEKLY;UNTIL=20260616T010000Z
CREATED:20260406
LAST-MODIFIED:20260406
PRIORITY:5
SEQUENCE:1
TRANSP:OPAQUE
SUMMARY:Ash-Shamā’il al-Muhammadiyyah with Sh. Ismail Hamdi
DESCRIPTION:Join us for a beautiful journey through Ash-Shamā’il al-Muḥammadiyyah, the timeless collection of narrations compiled by Imam al-Tirmidhi that vividly describe the character, appearance, and daily life of the Messenger of Allah ﷺ.In this class, we’ll explore the descriptions of the Prophet ﷺ, his character, his appearance, and his way of life, so we can better know him, love him, and follow his example.Mondays at ICPC-YounisBetween Maghrib & Isha (starting 7:30 PM)Starting April 6thWith Shaykh Ismail HamdiRegister now: icpcnj.org/courses#ICPC ( https://www.facebook.com/hashtag/icpc?__eep__=6&__tn__=*NK*F ) #Shamail ( https://www.facebook.com/hashtag/shamail?__eep__=6&__tn__=*NK*F ) #Seerah ( https://www.facebook.com/hashtag/seerah?__eep__=6&__tn__=*NK*F ) #IslamicClasses ( https://www.facebook.com/hashtag/islamicclasses?__eep__=6&__tn__=*NK*F ) #KnowTheProphet ( https://www.facebook.com/hashtag/knowtheprophet?__eep__=6&__tn__=*NK*F ) #LoveTheProphet ( https://www.facebook.com/hashtag/lovetheprophet?__eep__=6&__tn__=*NK*F )\n
URL:https://icpcnj.org/events/ash-shamail-al-muhammadiyyah-with-sh-ismail-hamdi/
ORGANIZER;CN=Islamic Center of Passaic County:MAILTO:
CATEGORIES:Boys Youth,Girls Youth,new muslim,Youth Boys
LOCATION:190 Haledon Ave. Prospect Park, NJ 07508
ATTACH;FMTTYPE=image/jpeg:https://icpcnj.org/wp-content/uploads/2026/04/shamailgreen_thumb-3.jpg
END:VEVENT
BEGIN:VEVENT
CLASS:PUBLIC
UID:MEC-e4eabfc03246622c13fc3416ff212c28@icpcnj.org
DTSTART;TZID=America/New_York:20260422T193000
DTEND;TZID=America/New_York:20260422T210000
DTSTAMP:20260407T093226Z
RRULE:FREQ=WEEKLY;UNTIL=20260625T010000Z
CREATED:20260407
LAST-MODIFIED:20260407
PRIORITY:5
SEQUENCE:3
TRANSP:OPAQUE
SUMMARY:Tafseer Series – Surat Maryam with Sh. Ismail
DESCRIPTION:Surah Maryam is a powerful and deeply moving surah that reveals how Allah supports His servants in their most difficult and lonely moments. Through its stories, we witness what it truly means to rely on Him, remain steadfast, and hold firmly to faith no matter the circumstances.This surah invites us to reflect on our relationship with Allah, how we turn to Him in hardship, and how certain we are in His promise.Join us for this Tafseer Series with Sh. Ismail HamdiWednesdays after MaghribICPC – YounisRegister now:www.icpcnj.org/courses\n
URL:https://icpcnj.org/events/tafseer-series-surat-maryam/
ORGANIZER;CN=Islamic Center of Passaic County:MAILTO:
CATEGORIES:Boys Youth,Girls Youth,Youth Boys
LOCATION:190 Haledon Ave. Prospect Park, NJ 07508
ATTACH;FMTTYPE=image/jpeg:https://icpcnj.org/wp-content/uploads/2026/04/maryam_ismail_post.jpg
END:VEVENT
BEGIN:VEVENT
CLASS:PUBLIC
UID:MEC-e58ce65891a685f7dd035a47c1763d1e@icpcnj.org
DTSTART;TZID=America/New_York:20260426T183000
DTEND;TZID=America/New_York:20260426T200000
DTSTAMP:20260407T093618Z
RRULE:FREQ=WEEKLY;UNTIL=20260629T000000Z
CREATED:20260407
LAST-MODIFIED:20260407
PRIORITY:5
SEQUENCE:2
TRANSP:OPAQUE
SUMMARY:Purification of the Soul – Sh. Osamah
DESCRIPTION:Join us for Purification of the Soul with Shaykh Osamah — a class focused on refining the heart, strengthening sincerity, and drawing closer to Allah.\nThrough this journey, we’ll explore how to cleanse the soul from spiritual diseases and develop the qualities that bring peace, clarity, and a deeper connection with our faith.\nSundays | April 19 – June 28\nRegister now: icpcnj.org/courses\n#ICPC #PurificationOfTheSoul #Tazkiyah #IslamicClasses #HeartWork #SpiritualGrowth\n
URL:https://icpcnj.org/events/purification-of-the-soul-sh-osamah/
ORGANIZER;CN=Islamic Center of Passaic County:MAILTO:
LOCATION:259 Pershing Rd ​Clifton, NJ 07013
ATTACH;FMTTYPE=image/jpeg:https://icpcnj.org/wp-content/uploads/2026/04/purificationofthesoul_post.jpg
END:VEVENT
BEGIN:VEVENT
CLASS:PUBLIC
UID:MEC-0bb65b43bbbf0791e4bed64d21bd3506@icpcnj.org
DTSTART;TZID=America/New_York:20260428T200000
DTEND;TZID=America/New_York:20260428T210000
DTSTAMP:20260420T163431Z
RRULE:FREQ=WEEKLY;UNTIL=20260513T010000Z
CREATED:20260420
LAST-MODIFIED:20260420
PRIORITY:5
SEQUENCE:3
TRANSP:OPAQUE
SUMMARY:The Problem of Evil
DESCRIPTION:Does absolute evil exist? Why is there suffering in this world? How does free will distinguish human beings? If Allah’s mercy supersedes His punishment, why is life rife with trials? Addressing these questions is at the core of understanding Allah’s magnificence and the world around us. Join us for this academic mini-series as we delve into reflection and conversation on some of the essential questions of life. We hope to see you there!Register: www.icpcnj.org/courses\n
URL:https://icpcnj.org/events/the-problem-with-evil/
CATEGORIES:Boys Youth,Converts,Girls Youth,new muslim,Women
LOCATION:259 Pershing Rd ​Clifton, NJ 07013
ATTACH;FMTTYPE=image/jpeg:https://icpcnj.org/wp-content/uploads/2026/04/evil_post.jpg
END:VEVENT
BEGIN:VEVENT
CLASS:PUBLIC
UID:MEC-dacbfb40ca8606ed7040dba3b1b77b64@icpcnj.org
DTSTART;TZID=America/New_York:20260428T110000
DTEND;TZID=America/New_York:20260428T130000
DTSTAMP:20260420T164615Z
RRULE:FREQ=WEEKLY
CREATED:20260420
LAST-MODIFIED:20260420
PRIORITY:5
SEQUENCE:2
TRANSP:OPAQUE
SUMMARY:Sisters’ Cooking Classes
DESCRIPTION:
URL:https://icpcnj.org/events/sisters-cooking-classes/
CATEGORIES:Women
LOCATION:152 Derrom Ave Paterson, NJ 07504
ATTACH;FMTTYPE=image/jpeg:https://icpcnj.org/wp-content/uploads/2025/08/sisters_cooking_thumb-02.jpg
END:VEVENT
BEGIN:VEVENT
CLASS:PUBLIC
UID:MEC-8cae37794f9542ad4fc2ba196813f859@icpcnj.org
DTSTART;TZID=America/New_York:20260424T200000
DTEND;TZID=America/New_York:20260424T213000
DTSTAMP:20260421T130130Z
RRULE:FREQ=WEEKLY
CREATED:20260421
LAST-MODIFIED:20260421
PRIORITY:5
SEQUENCE:1
TRANSP:OPAQUE
SUMMARY:The Friday Forum
DESCRIPTION:
URL:https://icpcnj.org/events/the-friday-forum-5/
CATEGORIES:Boys Youth,Converts,Girls Youth,sisters,Youth Boys
LOCATION:259 Pershing Rd ​Clifton, NJ 07013
ATTACH;FMTTYPE=image/jpeg:https://icpcnj.org/wp-content/uploads/2024/08/fridayforum_post.jpg
END:VEVENT
BEGIN:VEVENT
CLASS:PUBLIC
UID:MEC-6d33020a287b0f42087f7ddd96de40cb@icpcnj.org
DTSTART;TZID=America/New_York:20260425T170000
DTEND;TZID=America/New_York:20260425T190000
DTSTAMP:20260421T131028Z
CREATED:20260421
LAST-MODIFIED:20260421
PRIORITY:5
SEQUENCE:1
TRANSP:OPAQUE
SUMMARY:Shabab Night
DESCRIPTION:\n\nJoin us every Saturday from 5–7 PM for Shabab Night  — a weekly space for brothers ages 13–18 to build real brotherhood and grow in a positive environment.Each week includes engaging halaqas, meaningful discussions, and time to enjoy good food and connect with others your age. Red House @ ICPC Paterson (139 Derrom Ave, Paterson, NJ 07504)Bring a friend and be part of it.\n\n\n\n\n\n\n\n\n\n\n\n\n\n\n\n\n\n\n\n\n\n\n\n\n
URL:https://icpcnj.org/events/shabab-night/
ORGANIZER;CN=Islamic Center of Passaic County:MAILTO:
CATEGORIES:Boys Youth,Youth Boys
LOCATION:152 Derrom Ave Paterson, NJ 07504
ATTACH;FMTTYPE=image/jpeg:https://icpcnj.org/wp-content/uploads/2026/04/shababnight26_post-02-scaled.jpg
END:VEVENT
BEGIN:VEVENT
CLASS:PUBLIC
UID:MEC-8042cf0f2f4dfd019e12a70762be0c2b@icpcnj.org
DTSTART;TZID=America/New_York:20260425T190000
DTEND;TZID=America/New_York:20260425T210000
DTSTAMP:20260420T164004Z
CREATED:20260420
LAST-MODIFIED:20260420
PRIORITY:5
SEQUENCE:1
TRANSP:OPAQUE
SUMMARY:ICPC Endowment Workshop
DESCRIPTION:Join us for an informative session on the importance of establishing and sustaining a community endowment that supports our masjid and future generations.Learn about the concept of waqf in Islam, how endowments strengthen community institutions, and how you can help build a lasting legacy for the Islamic Center of Passaic County. Date: Saturday, April 25, 2026 Time: 7:00 PM – 9:00 PM Location: ICPC-PatersonRegistration is required. Seating is limited. Register: https://www.tfaforms.com/5216565\n
URL:https://icpcnj.org/events/icpc-endowment-workshop/
LOCATION:152 Derrom Ave Paterson, NJ 07504
ATTACH;FMTTYPE=image/jpeg:https://icpcnj.org/wp-content/uploads/2026/04/endowment2_post-scaled.jpg
END:VEVENT
BEGIN:VEVENT
CLASS:PUBLIC
UID:MEC-7874fab08b9e0e4a88f584ee2bdad121@icpcnj.org
DTSTART;TZID=America/New_York:20260424T190000
DTEND;TZID=America/New_York:20260424T210000
DTSTAMP:20260406T171027Z
CREATED:20260406
LAST-MODIFIED:20260406
PRIORITY:5
SEQUENCE:3
TRANSP:OPAQUE
SUMMARY:ورشة عن مناسك الحج
DESCRIPTION:\nرحلة العمر تبدأ بخطوة…\nانضموا إلينا في ورشة عمل عن مناسك الحج مع الدكتور محمد قطاني\n\n\nتعرّفوا على خطوات الحج عمليًا واستعدوا لهذه العبادة العظيمة.\n\n\n الجمعة 24 إبريل\n 7 – 9 مساءً\n مسجد باترسون\n\n\n هدية مجانية للمسجلين\n\n\nسجّل الآن:\nicpcnj.org/courses\n\n\n
URL:https://icpcnj.org/events/%d9%88%d8%b1%d8%b4%d8%a9-%d8%b9%d9%86-%d9%85%d9%86%d8%a7%d8%b3%d9%83-%d8%a7%d9%84%d8%ad%d8%ac/
LOCATION:152 Derrom Ave Paterson, NJ 07504
ATTACH;FMTTYPE=image/jpeg:https://icpcnj.org/wp-content/uploads/2026/04/hajjworkshop2026_thumb-1.jpg
END:VEVENT
BEGIN:VEVENT
CLASS:PUBLIC
UID:MEC-c0009890732032e96436a7fc53bcadec@icpcnj.org
DTSTART;TZID=America/New_York:20230205T153000
DTEND;TZID=America/New_York:20230205T170000
DTSTAMP:20241116T105533Z
CREATED:20241116
LAST-MODIFIED:20241116
PRIORITY:5
SEQUENCE:0
TRANSP:OPAQUE
SUMMARY:Becoming Whole & Finding Peace Through the Pain
DESCRIPTION:Becoming Whole & Finding Peace Through the Pain\nDates: 2/5, 2/19, 3/5 &3/19\nAt 3:30 pm at ICPC-Clifton\nRegister using the link: https://forms.gle/jvkejZD8D16ucziC6\n
URL:https://icpcnj.org/events/becoming-whole-finding-peace-through-the-pain/
LOCATION:259 Pershing Rd ​Clifton, NJ 07013
END:VEVENT
BEGIN:VEVENT
CLASS:PUBLIC
UID:MEC-7e1b41fd6c8be521d64c6c8dc68dd61c@icpcnj.org
DTSTART;TZID=America/New_York:20230721T150000
DTEND;TZID=America/New_York:20230721T190000
DTSTAMP:20241116T105516Z
CREATED:20241116
LAST-MODIFIED:20241116
PRIORITY:5
SEQUENCE:0
TRANSP:OPAQUE
SUMMARY:Clothing Drive for Jordan
DESCRIPTION:Volunteer Sign Up: https://www.signupgenius.com/go/9040B45ADAA2CA4FF2-clothing2\n
URL:https://icpcnj.org/events/clothing-drive-for-jordan/
END:VEVENT
BEGIN:VEVENT
CLASS:PUBLIC
UID:MEC-7d74f0aa3521a78533a8e8d6a6b5b8a1@icpcnj.org
DTSTART;TZID=America/New_York:20230803T190000
DTEND;TZID=America/New_York:20230803T203000
DTSTAMP:20241116T105516Z
CREATED:20241116
LAST-MODIFIED:20241116
PRIORITY:5
SEQUENCE:0
TRANSP:OPAQUE
SUMMARY:Dhikr & Fikr
DESCRIPTION:Join us tonight for Dhikr & Fikr: A Gathering of Remembrance & Reflections on the 101st Wisdom of Ibn ‘Ata’Allah Al-Iskandari with Shaykh Yasir Fahmy at 7:00 PM at ICPC-Clifton!\n
URL:https://icpcnj.org/events/dhikr-fikr/
LOCATION:259 Pershing Rd ​Clifton, NJ 07013
END:VEVENT
BEGIN:VEVENT
CLASS:PUBLIC
UID:MEC-31947768509124ece732c7a378c1b937@icpcnj.org
DTSTART;TZID=America/New_York:20230919T200000
DTEND;TZID=America/New_York:20230919T213000
DTSTAMP:20241116T105512Z
CREATED:20241116
LAST-MODIFIED:20241116
PRIORITY:5
SEQUENCE:0
TRANSP:OPAQUE
SUMMARY:Fiqh in Salah with Shaykh Osamah
DESCRIPTION:Discover the Fiqh in Salah with Shaykh Osamah!\nStarting September 19th, immerse yourself in the world of Islamic jurisprudence related to Salah. Join Shaykh Osamah every Tuesday at 7:30 pm at ICPC-Clifton for enlightening insights. Free registration is mandatory at icpcnj.org/classes. Engage in profound discussions, refine your prayer understanding, and embrace the spiritual journey. Don’t miss this opportunity to learn from a knowledgeable guide and elevate your Salah experience.\n \n
URL:https://icpcnj.org/events/fiqh-in-salah-with-shaykh-osamah/
LOCATION:259 Pershing Rd ​Clifton, NJ 07013
END:VEVENT
BEGIN:VEVENT
CLASS:PUBLIC
UID:MEC-8f3db33bb3a5ed3e9a8f7a9336563bd1@icpcnj.org
DTSTART;TZID=America/New_York:20230924T170000
DTEND;TZID=America/New_York:20230924T181500
DTSTAMP:20241116T105511Z
CREATED:20241116
LAST-MODIFIED:20241116
PRIORITY:5
SEQUENCE:0
TRANSP:OPAQUE
SUMMARY:Lessons from the Prophet’s Life with Sr. Lina Barbir
DESCRIPTION:Engaging and interactive sessions helping us to implement the sunnah in our everyday lives! Discover “Lessons from the Prophet’s Life” with Sr. Lina Barbir. Sundays, 5:00 – 6:15 PM, at ICPC-Paterson, from Sept. 24th to Dec. 17th (No Class on Oct. 8th). High school and college girls are invited for this enriching experience. Registration is free but required at www.icpcnj.org/classes. Don’t miss this chance to gain timeless wisdom from the Prophet’s life. Join us on this spiritual journey!\n
URL:https://icpcnj.org/events/lessons-from-the-prophets-life-with-sr-lina-barbir-2/
LOCATION:152 Derrom Ave Paterson, NJ 07504
END:VEVENT
BEGIN:VEVENT
CLASS:PUBLIC
UID:MEC-bd169e14bc915e4d2da8436fce9079bf@icpcnj.org
DTSTART;TZID=America/New_York:20231008T170000
DTEND;TZID=America/New_York:20231008T190000
DTSTAMP:20241116T105511Z
CREATED:20241116
LAST-MODIFIED:20241116
PRIORITY:5
SEQUENCE:0
TRANSP:OPAQUE
SUMMARY:Journey – Boys 7-13 years old
DESCRIPTION:The Junior Boys are back! Join us every Saturday starting September 30th from 5-7 for our Journey program! See you all there InshaAllah!\n \n
URL:https://icpcnj.org/events/journey-boys-7-13-years-old-2/
LOCATION:152 Derrom Ave Paterson, NJ 07504
END:VEVENT
BEGIN:VEVENT
CLASS:PUBLIC
UID:MEC-c1e19bd5c895f6b23ea7b71df9337ee0@icpcnj.org
DTSTART;TZID=America/New_York:20231006T140000
DTEND;TZID=America/New_York:20231006T160000
DTSTAMP:20241116T105509Z
CREATED:20241116
LAST-MODIFIED:20241116
PRIORITY:5
SEQUENCE:0
TRANSP:OPAQUE
SUMMARY:Sip & Seerah (Girls7-12)
DESCRIPTION:Join us every Saturday from 2:00-4:00 PM!! Bring your friends and get ready to learn about the Prophet (as) while sipping on some yummy drinks!!! 💗\n
URL:https://icpcnj.org/events/sip-seerah-girls7-12/
LOCATION:152 Derrom Ave Paterson, NJ 07504
END:VEVENT
BEGIN:VEVENT
CLASS:PUBLIC
UID:MEC-2446676c147ce456d766173536acd53d@icpcnj.org
DTSTART;TZID=America/New_York:20231027T163000
DTEND;TZID=America/New_York:20231027T183000
DTSTAMP:20241116T105509Z
CREATED:20241116
LAST-MODIFIED:20241116
PRIORITY:5
SEQUENCE:0
TRANSP:OPAQUE
SUMMARY:Fridays Are For The Girls – 13-18 years old
DESCRIPTION:Fridays Are For The Girls – 13-18 years old\nICPC-Paterson Women’s 2nd Floor\n
URL:https://icpcnj.org/events/fridays-are-for-the-girls-13-18-years-old/
LOCATION:152 Derrom Ave Paterson, NJ 07504
END:VEVENT
BEGIN:VEVENT
CLASS:PUBLIC
UID:MEC-678beedbfc691ec4b9bbb712f76a6b65@icpcnj.org
DTSTART;TZID=America/New_York:20231028T150000
DTEND;TZID=America/New_York:20231028T163000
DTSTAMP:20241116T105509Z
CREATED:20241116
LAST-MODIFIED:20241116
PRIORITY:5
SEQUENCE:0
TRANSP:OPAQUE
SUMMARY:JIU-JITSU for Men 18+
DESCRIPTION:\n\n\n\n\n\n\n\n🥋 Experience the Power of Jiu-Jitsu! 🥋\nAttention all men aged 18 and above! Join us for invigorating Jiu-Jitsu sessions every Saturday from 3:00-4:30 PM at ICPC-Clifton, 259 Pershing Rd, Clifton, NJ 07013. Our skilled instructors will guide you through the art of self-defense and discipline. Don’t miss out—register today at conta.cc/4987wAw. See you on the mat! 👊 #JiuJitsuClasses #ICPCClifton #SelfDefenseTraining\n\n\n\n\n\n\n\n\n
URL:https://icpcnj.org/events/jiu-jitsu-for-men-18/
LOCATION:259 Pershing Rd ​Clifton, NJ 07013
END:VEVENT
BEGIN:VEVENT
CLASS:PUBLIC
UID:MEC-cca87a9f197eb3b4b2e4cafa9cccfff8@icpcnj.org
DTSTART;TZID=America/New_York:20240114T180000
DTEND;TZID=America/New_York:20240114T193000
DTSTAMP:20241116T105505Z
CREATED:20241116
LAST-MODIFIED:20241116
PRIORITY:5
SEQUENCE:0
TRANSP:OPAQUE
SUMMARY:The Parables of The Qur’an with Shaykh Osamah
DESCRIPTION:The Qur’anic Parables highlight the refined eloquence & divine wisdom found in the book of Allah. Among the Qur’anic Sciences, it is a doorway to gaining appreciation of some of the many relevant life principles the Everlasting Miracle teaches. As we prepare for Ramadan, join us as we invest our souls in kindling a meaningful relationship with the Qur’an. This course will be starting Sunday January 14th at 6:00 pm at ICPC Clifton and will run until Ramadan. We look forward to you joining us for the journey! Register at www.icpcnj.org/classes\n
URL:https://icpcnj.org/events/the-parables-of-the-quran-with-shaykh-osamah/
LOCATION:259 Pershing Rd ​Clifton, NJ 07013
END:VEVENT
BEGIN:VEVENT
CLASS:PUBLIC
UID:MEC-de4b06883dcb2b198b5bb5ba7961a95b@icpcnj.org
DTSTART;TZID=America/New_York:20240114T200000
DTEND;TZID=America/New_York:20240114T210000
DTSTAMP:20241116T105505Z
CREATED:20241116
LAST-MODIFIED:20241116
PRIORITY:5
SEQUENCE:0
TRANSP:OPAQUE
SUMMARY:Brothers’ Halaqa with Shaykh Osamah
DESCRIPTION:Calling all Brothers! Join us Sunday January 14th after Isha at ICPC Clifton for the first session of our Weekly Brothers’ Halaqa with Shaykh Osamah! The vision for the Halaqah is to cultivate a spirit of Suhba, as we seek to grow in our knowledge & understanding of our Deen. The first of several topics to be covered in this Halaqah – inshallah – is a primer in Hadith Studies. We look forward to you joining us for the journey.\n
URL:https://icpcnj.org/events/brothers-halaqa-with-shaykh-osamah-2/
LOCATION:259 Pershing Rd ​Clifton, NJ 07013
END:VEVENT
BEGIN:VEVENT
CLASS:PUBLIC
UID:MEC-be80f28e9015dc593f00dd5d3b0c806d@icpcnj.org
DTSTART;TZID=America/New_York:20231110T190000
DTEND;TZID=America/New_York:20231110T203000
DTSTAMP:20241116T105503Z
CREATED:20241116
LAST-MODIFIED:20241116
PRIORITY:5
SEQUENCE:0
TRANSP:OPAQUE
SUMMARY:Sisters’ Weekly Halaqa with Ustadha Farah Chaudhry
DESCRIPTION:\n\n\n\n\n\nSisters’ Weekly Halaqa with Ustadha Farah Chaudhry\nJoin us in cultivating a vibrant sisterhood that empowers and uplifts! Engage in discussions on self-development, spirituality, and purification of the heart.\nFor women ages 20+ in English.\n\nFor women 20 years and older in English.\nWednesdays | 7 pm | ICPC-Clifton\nJoin our whatsApp group: https://chat.whatsapp.com/LKptS17RzYzKfdicupo4Ow\n\n\n\n\n\n\n
URL:https://icpcnj.org/events/sisters-weekly-halaqa-with-ustadha-farah-chaudhry/
LOCATION:259 Pershing Rd ​Clifton, NJ 07013
END:VEVENT
BEGIN:VEVENT
CLASS:PUBLIC
UID:MEC-e4fe67535fb25d774b08d9e867bb7ab9@icpcnj.org
DTSTART;TZID=America/New_York:20240121T170000
DTEND;TZID=America/New_York:20240121T200000
DTSTAMP:20241116T105503Z
CREATED:20241116
LAST-MODIFIED:20241116
PRIORITY:5
SEQUENCE:0
TRANSP:OPAQUE
SUMMARY:Shabab Night on Sundays
DESCRIPTION:\n\n\n\n\nJoin us every Sunday from 6-9pm for Shabab Night! It’s the perfect hangout spot for young men aged 13-18. Expect exciting activities, games, and a chance to make new friends in a safe and inclusive environment. From sports to gaming and insightful discussions, we’ve got it all covered. Don’t miss out on the fun and camaraderie. See you there!\n\n\n\n\n\n
URL:https://icpcnj.org/events/shabab-night-on-sundays/
LOCATION:152 Derrom Ave Paterson, NJ 07504
END:VEVENT
BEGIN:VEVENT
CLASS:PUBLIC
UID:MEC-a526cf98a75561b0ac2cb66001e64468@icpcnj.org
DTSTART;TZID=America/New_York:20240210T150000
DURATION:PT2H
DTSTAMP:20241116T105503Z
RDATE;TZID=America/New_York:20240210T150000
CREATED:20241116
LAST-MODIFIED:20241116
PRIORITY:5
SEQUENCE:1
TRANSP:OPAQUE
SUMMARY:Saturdays Are For The Girls – 13-18 years old
DESCRIPTION:Saturdays Are For The Girls – 13-18 years old\nICPC-Paterson Women’s 2nd Floor\n
URL:https://icpcnj.org/events/saturdays-are-for-the-girls-13-18-years-old/
LOCATION:152 Derrom Ave Paterson, NJ 07504
ATTACH;FMTTYPE=image/png:https://icpcnj.org/wp-content/uploads/2024/11/saturdays.png
END:VEVENT
BEGIN:VEVENT
CLASS:PUBLIC
UID:MEC-2b5d9ed398db1dee1d00214aa5a41ef0@icpcnj.org
DTSTART;TZID=America/New_York:20240129T190000
DTEND;TZID=America/New_York:20240129T203000
DTSTAMP:20241116T105502Z
CREATED:20241116
LAST-MODIFIED:20241116
PRIORITY:5
SEQUENCE:0
TRANSP:OPAQUE
SUMMARY:Boys To Men with Dr. Muneer Hamdeh
DESCRIPTION:Interactive Discussions\nBrothers ages 18 and older\nAt ICPC-Paterson\n
URL:https://icpcnj.org/events/boys-to-men-with-dr-muneer-hamdeh/
LOCATION:152 Derrom Ave Paterson, NJ 07504
END:VEVENT
END:VCALENDAR
